BEGIN:VCALENDAR
VERSION:2.0
PRODID:-//TeenTech - ECPv6.15.20//NONSGML v1.0//EN
CALSCALE:GREGORIAN
METHOD:PUBLISH
X-ORIGINAL-URL:https://teentech.com
X-WR-CALDESC:Events for TeenTech
REFRESH-INTERVAL;VALUE=DURATION:PT1H
X-Robots-Tag:noindex
X-PUBLISHED-TTL:PT1H
BEGIN:VTIMEZONE
TZID:Europe/London
BEGIN:DAYLIGHT
TZOFFSETFROM:+0000
TZOFFSETTO:+0100
TZNAME:BST
DTSTART:20240331T010000
END:DAYLIGHT
BEGIN:STANDARD
TZOFFSETFROM:+0100
TZOFFSETTO:+0000
TZNAME:GMT
DTSTART:20241027T010000
END:STANDARD
BEGIN:DAYLIGHT
TZOFFSETFROM:+0000
TZOFFSETTO:+0100
TZNAME:BST
DTSTART:20250330T010000
END:DAYLIGHT
BEGIN:STANDARD
TZOFFSETFROM:+0100
TZOFFSETTO:+0000
TZNAME:GMT
DTSTART:20251026T010000
END:STANDARD
BEGIN:DAYLIGHT
TZOFFSETFROM:+0000
TZOFFSETTO:+0100
TZNAME:BST
DTSTART:20260329T010000
END:DAYLIGHT
BEGIN:STANDARD
TZOFFSETFROM:+0100
TZOFFSETTO:+0000
TZNAME:GMT
DTSTART:20261025T010000
END:STANDARD
END:VTIMEZONE
BEGIN:VEVENT
DTSTART;TZID=Europe/London:20251114T090000
DTEND;TZID=Europe/London:20251114T143000
DTSTAMP:20260421T094340
CREATED:20250908T082216Z
LAST-MODIFIED:20250908T114452Z
UID:10000224-1763110800-1763130600@teentech.com
SUMMARY:TeenTech Roehampton Innovation and Insight Day 2025
DESCRIPTION:Schools can bring a group of eight students in Years 8\, 9 and 10\nIf you are participating in this event\, you can also register for the TeenTech Roehampton Innovation and Insight Day Virtual Event on Wednesday 22nd October 2025. You can check which events you have registered for by clicking here. We strongly recommend schools sign up for both the virtual session and the in-person event.\nSchools are invited to bring a mixed-ability group of students for a sharply focused free full-day event at The University of Roehampton\, where they will immerse themselves in exciting activities and challenges from university departments and leading STEAM companies. They will also continue to develop their ideas from the virtual session to make life better\, simpler\, safer or more fun\, which they can enter into the TeenTech Awards. This day will provide valuable opportunities to network with employers who will give feedback on their project ideas and provide pathways into their businesses. \nSchools can bring a mixed-ability group of eight students to this event. It’s a day that changes minds – especially those who may never have previously considered a career in science or technology! \nTeachers and students\, please bring your own packed lunches. \nBooking Terms and Conditions\nThere is no booking fee for this event\, but because there are a limited number of places at this event\, and we want to make sure that every school has the opportunity to register\, please let us know ASAP if you are no longer able to attend and please note our cancellation terms\, which are: \n\nCancelling on or after Saturday 25th October 2025/Non-attendance on the day of the event: £500 fee\n\nFull Booking Terms and Conditions for TeenTech Festivals can be viewed here.
URL:https://teentech.com/event/teentech-roehampton-innovation-and-insight-day/
LOCATION:University of Roehampton\, Grove House\, Roehampton Lane\, London\, England\, SW15 5PJ\, United Kingdom
CATEGORIES:TeenTech Festivals
ATTACH;FMTTYPE=image/jpeg:https://teentech.com/wp-content/uploads/2024/10/Roehampton-Featured-2-1.jpg
ORGANIZER;CN="TeenTech":MAILTO:events@teentech.com
END:VEVENT
BEGIN:VEVENT
DTSTART;TZID=Europe/London:20250424T093000
DTEND;TZID=Europe/London:20250424T150000
DTSTAMP:20260421T094340
CREATED:20241001T080008Z
LAST-MODIFIED:20250116T172500Z
UID:10000204-1745487000-1745506800@teentech.com
SUMMARY:TeenTech Roehampton Festival (Year 6 - Year 8)
DESCRIPTION:Schools can bring a group of ten students in Years 6-8\nTeenTech Roehampton Festival will bring together schools and colleges across the region for an exciting interactive programme that will help young people understand the range of opportunities across digital\, science and technology and the many different entry points. \nIf you are participating in this event\, please also ensure you register for the up-front TeenTech Roehampton Festival Virtual City of Tomorrow Live Build Day on Thursday 20th March 2025. You can check which events you have registered for by clicking here.\nThere are different sets of activities for KS2/3 students and for sixth form/college students. \nThe TeenTech festival is a sharply focused event that changes perceptions and helps students understand their own potential. It’s a day that changes minds—especially those who may never have previously considered a career in science or technology. \nSchools can bring a group of ten students who have taken part in the virtual event on Thursday\, March 20th\, 2025. You can register for this event here. They will bring their project to the TeenTech Festival on Thursday\, April 24th\, 2025\, where they will receive feedback from experts and also participate in a series of lively challenges and activities that bring the world of science and technology to life. \nWe will provide downloadable resources and participation packs to schools after registration. \nFestival Booking Terms and Conditions\nThere is a booking fee of £50 per school. After your booking has been confirmed\, your school will be invoiced. \nBecause there is a limited number of places at this event\, and we want to make sure that every school has the opportunity to register\, please note our cancellation terms\, which are: \n\nCancelling before Friday 11th April 2025: Fee refunded (as we can then offer this place to others)\nCancelling on or after Friday 11th April 2025/Non-attendance on the day of the event: No refund\, plus £500 cancellation fee\n\nFull Booking Terms and Conditions for TeenTech Festivals can be viewed here.
URL:https://teentech.com/event/roehampton-festival-2025-yr-6-yr-8/
LOCATION:University of Roehampton\, Grove House\, Roehampton Lane\, London\, England\, SW15 5PJ\, United Kingdom
CATEGORIES:TeenTech Festivals
ATTACH;FMTTYPE=image/jpeg:https://teentech.com/wp-content/uploads/2024/10/Roehampton-Featured-3-1.jpg
ORGANIZER;CN="TeenTech":MAILTO:events@teentech.com
END:VEVENT
BEGIN:VEVENT
DTSTART;TZID=Europe/London:20250424T093000
DTEND;TZID=Europe/London:20250424T150000
DTSTAMP:20260421T094340
CREATED:20241001T075701Z
LAST-MODIFIED:20250116T172454Z
UID:10000203-1745487000-1745506800@teentech.com
SUMMARY:TeenTech Roehampton Festival (Year 10 – Year 12)
DESCRIPTION:Schools can bring a group of ten students in Years 10-12\nTeenTech Roehampton Festival will bring together schools and colleges across the region for an exciting interactive programme to help young people understand the range of opportunities across digital\, science and technology and the many different entry points. \nThere are different sets of activities for KS2/3 students and sixth form/college students. \nThe TeenTech festival is a sharply focused event that changes perceptions and helps students understand their own potential. It’s a day that changes minds—especially those who may never have previously considered a career in science or technology. \nThis session for Year 10\, 11 and 12 students will include: \n\nA series of hands-on activities which will enable them to meet a range of employers in digital\, science\, technology and engineering.\nWorkshops providing insight into the wide range of STEAM careers and the different university or apprenticeship programmes that could lead them there.\nA tour of the Roehampton campus where students will be able to ask questions about university life.\n\nSchools can bring a group of ten students in Years 10-12. You can indicate on the booking form if you would like to bring additional students if space allows. \nWe will provide downloadable resources and participation packs to schools after registration. \nFestival Booking Terms and Conditions\nThere is a booking fee of £50 per school. After your booking has been confirmed\, your school will be invoiced. \nBecause there is a limited number of places at this event\, and we want to make sure that every school has the opportunity to register\, please note our cancellation terms\, which are: \n\nCancelling before Friday 11th April 2025: fee refunded (as we can then offer this place to others)\nCancelling on or after Friday 11th April 2025/Non-attendance on the day of the event: No refund\, plus £500 cancellation fee\n\nFull Booking Terms and Conditions for TeenTech Festivals can be viewed here.
URL:https://teentech.com/event/roehampton-festival-2025-yr-10-yr-12/
LOCATION:University of Roehampton\, Grove House\, Roehampton Lane\, London\, England\, SW15 5PJ\, United Kingdom
CATEGORIES:TeenTech Festivals
ATTACH;FMTTYPE=image/jpeg:https://teentech.com/wp-content/uploads/2024/10/Roehampton-Featured-2-1.jpg
ORGANIZER;CN="TeenTech":MAILTO:events@teentech.com
END:VEVENT
END:VCALENDAR